{"text_format":"1","workbook":"xlsx","n_sheets":2,"sheets":["CGCH","Report"],"not_rendered":{"charts":0,"images":1,"macros":1,"external_links":0,"defined_names":4,"comments":0,"pivot_tables":0},"unopened":[],"bounds":{"document_bytes":16777216,"sheet_cells":100000,"rows_first":2000,"rows_last":500,"rows_between":2000,"halvings":0,"cell_chars":16384,"cell_head_chars":4096},"cells_cut":0,"cells_raw":0,"read":"whole","date_system":"1900"}

{"sheet":"CGCH","index":0,"n_rows":417,"n_cols":19,"rows_kept":417,"cut":false,"hidden":false,"merged":[[407,4,407,5],[407,1,407,3],[406,4,406,5],[406,1,406,3],[399,1,399,3],[398,1,398,3],[396,1,396,3],[291,4,291,5],[293,1,293,3],[313,1,313,3],[316,4,316,5],[338,4,338,5],[324,4,324,5],[343,1,343,3],[330,1,330,3],[331,4,331,5],[347,1,347,3],[331,1,331,3],[332,1,332,3],[344,1,344,3],[333,1,333,3],[338,1,338,3],[306,4,306,5],[309,1,309,3],[382,4,382,5],[382,1,382,3],[370,4,370,5],[375,4,375,5],[375,1,375,3],[369,4,369,5],[330,4,330,5],[335,1,335,3],[298,4,298,5],[303,4,303,5],[291,1,291,3],[339,4,339,5],[290,4,290,5],[321,4,321,5],[315,4,315,5],[333,4,333,5],[298,1,298,3],[342,4,342,5],[302,1,302,3],[305,1,305,3],[292,1,292,3],[354,1,354,3],[296,1,296,3],[309,4,309,5],[306,1,306,3],[294,1,294,3],[311,1,311,3],[334,1,334,3],[329,1,329,3],[279,1,279,3],[287,1,287,3],[288,4,288,5],[328,1,328,3],[344,4,344,5],[336,4,336,5],[323,1,323,3],[325,1,325,3],[332,4,332,5],[321,1,321,3],[320,1,320,3],[323,4,323,5],[319,1,319,3],[334,4,334,5],[335,4,335,5],[337,4,337,5],[289,1,289,3],[314,1,314,3],[327,1,327,3],[328,4,328,5],[326,4,326,5],[287,4,287,5],[340,1,340,3],[308,1,308,3],[280,1,280,3],[292,4,292,5],[305,4,305,5],[297,1,297,3],[281,4,281,5],[282,1,282,3],[339,1,339,3],[300,4,300,5],[360,1,360,3],[363,4,363,5],[318,1,318,3],[364,4,364,5],[364,1,364,3],[326,1,326,3],[311,4,311,5],[286,1,286,3],[290,1,290,3],[301,4,301,5],[353,4,353,5],[349,4,349,5],[307,4,307,5],[293,4,293,5],[310,4,310,5],[322,1,322,3],[294,4,294,5],[310,1,310,3],[322,4,322,5],[300,1,300,3],[325,4,325,5],[304,4,304,5],[295,1,295,3],[295,4,295,5],[296,4,296,5],[329,4,329,5],[341,1,341,3],[348,4,348,5],[314,4,314,5],[318,4,318,5],[289,4,289,5],[317,1,317,3],[373,4,373,5],[373,1,373,3],[370,1,370,3],[365,4,365,5],[409,4,409,5],[409,1,409,3],[363,1,363,3],[353,1,353,3],[299,4,299,5],[307,1,307,3],[340,4,340,5],[336,1,336,3],[349,1,349,3],[297,4,297,5],[315,1,315,3],[319,4,319,5],[337,1,337,3],[343,4,343,5],[346,1,346,3],[350,1,350,3],[345,1,345,3],[347,4,347,5],[345,4,345,5],[327,4,327,5],[312,1,312,3],[348,1,348,3],[308,4,308,5],[341,4,341,5],[355,4,355,5],[359,1,359,3],[362,4,362,5],[361,4,361,5],[358,1,358,3],[356,1,356,3],[360,4,360,5],[362,1,362,3],[358,4,358,5],[356,4,356,5],[357,4,357,5],[359,4,359,5],[372,4,372,5],[372,1,372,3],[365,1,365,3],[357,1,357,3],[312,4,312,5],[368,1,368,3],[367,4,367,5],[368,4,368,5],[366,4,366,5],[366,1,366,3],[317,4,317,5],[354,4,354,5],[350,4,350,5],[342,1,342,3],[346,4,346,5],[351,1,351,3],[351,4,351,5],[355,1,355,3],[352,1,352,3],[352,4,352,5],[316,1,316,3],[361,1,361,3],[367,1,367,3],[324,1,324,3],[374,4,374,5],[374,1,374,3],[427,1,427,3],[423,1,423,3],[381,4,381,5],[393,1,393,3],[405,1,405,3],[388,4,388,5],[388,1,388,3],[414,1,414,3],[413,4,413,5],[405,4,405,5],[425,4,425,5],[391,4,391,5],[413,1,413,3],[385,4,385,5],[385,1,385,3],[379,1,379,3],[390,4,390,5],[390,1,390,3],[389,4,389,5],[389,1,389,3],[384,4,384,5],[384,1,384,3],[383,4,383,5],[383,1,383,3],[380,4,380,5],[415,1,415,3],[408,4,408,5],[416,1,416,3],[415,4,415,5],[411,1,411,3],[416,4,416,5],[410,1,410,3],[386,1,386,3],[408,1,408,3],[394,4,394,5],[394,1,394,3],[393,4,393,5],[391,1,391,3],[449,1,449,3],[449,4,449,5],[445,1,445,3],[419,1,419,3],[410,4,410,5],[426,1,426,3],[386,4,386,5],[402,4,402,5],[402,1,402,3],[387,4,387,5],[387,1,387,3],[401,4,401,5],[418,4,418,5],[397,4,397,5],[392,4,392,5],[392,1,392,3],[397,1,397,3],[396,4,396,5],[398,4,398,5],[400,4,400,5],[400,1,400,3],[399,4,399,5],[471,1,471,3],[453,1,453,3],[454,1,454,3],[421,1,421,3],[429,4,429,5],[424,1,424,3],[435,1,435,3],[401,1,401,3],[433,1,433,3],[420,4,420,5],[425,1,425,3],[417,4,417,5],[422,4,422,5],[430,4,430,5],[431,4,431,5],[433,4,433,5],[437,4,437,5],[414,4,414,5],[412,4,412,5],[412,1,412,3],[432,4,432,5],[434,4,434,5],[422,1,422,3],[423,4,423,5],[418,1,418,3],[438,4,438,5],[447,4,447,5],[444,4,444,5],[448,1,448,3],[417,1,417,3],[411,4,411,5],[462,1,462,3],[465,1,465,3],[456,1,456,3],[419,4,419,5],[429,1,429,3],[427,4,427,5],[432,1,432,3],[434,1,434,3],[438,1,438,3],[420,1,420,3],[421,4,421,5],[437,1,437,3],[452,4,452,5],[452,1,452,3],[451,1,451,3],[453,4,453,5],[428,4,428,5],[430,1,430,3],[436,4,436,5],[424,4,424,5],[448,4,448,5],[503,1,503,3],[509,4,509,5],[473,1,473,3],[469,4,469,5],[447,1,447,3],[457,1,457,3],[455,4,455,5],[441,4,441,5],[446,4,446,5],[456,4,456,5],[444,1,444,3],[440,1,440,3],[440,4,440,5],[442,4,442,5],[451,4,451,5],[450,4,450,5],[483,4,483,5],[472,4,472,5],[473,4,473,5],[471,4,471,5],[477,1,477,3],[474,1,474,3],[476,1,476,3],[478,1,478,3],[469,1,469,3],[478,4,478,5],[480,1,480,3],[464,4,464,5],[462,4,462,5],[458,4,458,5],[468,1,468,3],[441,1,441,3],[599,4,599,5],[601,4,601,5],[599,1,599,3],[606,1,606,3],[601,1,601,3],[602,4,602,5],[579,4,579,5],[582,4,582,5],[482,4,482,5],[481,4,481,5],[467,1,467,3],[558,4,558,5],[536,4,536,5],[522,1,522,3],[530,1,530,3],[535,1,535,3],[529,4,529,5],[529,1,529,3],[524,4,524,5],[520,4,520,5],[517,4,517,5],[533,1,533,3],[537,4,537,5],[536,1,536,3],[539,1,539,3],[546,1,546,3],[541,4,541,5],[543,4,543,5],[526,1,526,3],[556,1,556,3],[556,4,556,5],[557,4,557,5],[589,4,589,5],[592,4,592,5],[585,1,585,3],[581,1,581,3],[586,4,586,5],[591,4,591,5],[590,4,590,5],[584,4,584,5],[594,4,594,5],[588,4,588,5],[587,4,587,5],[592,1,592,3],[608,4,608,5],[608,1,608,3],[607,4,607,5],[607,1,607,3],[591,1,591,3],[597,1,597,3],[596,1,596,3],[596,4,596,5],[602,1,602,3],[600,4,600,5],[598,1,598,3],[586,1,586,3],[605,4,605,5],[593,4,593,5],[605,1,605,3],[606,4,606,5],[603,4,603,5],[598,4,598,5],[603,1,603,3],[600,1,600,3],[597,4,597,5],[577,1,577,3],[575,4,575,5],[581,4,581,5],[571,1,571,3],[590,1,590,3],[580,1,580,3],[580,4,580,5],[562,4,562,5],[566,4,566,5],[562,1,562,3],[568,1,568,3],[569,4,569,5],[570,1,570,3],[585,4,585,5],[555,4,555,5],[568,4,568,5],[569,1,569,3],[567,4,567,5],[564,1,564,3],[563,1,563,3],[576,1,576,3],[572,4,572,5],[587,1,587,3],[594,1,594,3],[595,1,595,3],[595,4,595,5],[593,1,593,3],[589,1,589,3],[582,1,582,3],[583,4,583,5],[588,1,588,3],[578,1,578,3],[578,4,578,5],[573,4,573,5],[584,1,584,3],[579,1,579,3],[538,1,538,3],[538,4,538,5],[554,4,554,5],[554,1,554,3],[583,1,583,3],[572,1,572,3],[565,1,565,3],[566,1,566,3],[550,4,550,5],[551,4,551,5],[550,1,550,3],[545,4,545,5],[544,1,544,3],[542,1,542,3],[539,4,539,5],[549,1,549,3],[561,1,561,3],[560,1,560,3],[560,4,560,5],[563,4,563,5],[564,4,564,5],[559,4,559,5],[558,1,558,3],[548,1,548,3],[541,1,541,3],[577,4,577,5],[574,4,574,5],[502,1,502,3],[507,4,507,5],[504,1,504,3],[513,4,513,5],[530,4,530,5],[533,4,533,5],[546,4,546,5],[511,1,511,3],[561,4,561,5],[565,4,565,5],[559,1,559,3],[576,4,576,5],[573,1,573,3],[575,1,575,3],[555,1,555,3],[557,1,557,3],[510,4,510,5],[505,4,505,5],[532,4,532,5],[514,4,514,5],[525,4,525,5],[571,4,571,5],[574,1,574,3],[547,4,547,5],[553,4,553,5],[553,1,553,3],[547,1,547,3],[518,1,518,3],[514,1,514,3],[505,1,505,3],[519,1,519,3],[503,4,503,5],[507,1,507,3],[508,4,508,5],[508,1,508,3],[570,4,570,5],[567,1,567,3],[511,4,511,5],[551,1,551,3],[540,4,540,5],[545,1,545,3],[552,1,552,3],[552,4,552,5],[535,4,535,5],[532,1,532,3],[543,1,543,3],[537,1,537,3],[542,4,542,5],[544,4,544,5],[540,1,540,3],[548,4,548,5],[549,4,549,5],[513,1,513,3],[512,1,512,3],[516,4,516,5],[512,4,512,5],[528,1,528,3],[523,1,523,3],[525,1,525,3],[285,4,285,5],[320,4,320,5],[269,1,269,3],[523,4,523,5],[524,1,524,3],[528,4,528,5],[506,1,506,3],[506,4,506,5],[534,4,534,5],[531,1,531,3],[534,1,534,3],[531,4,531,5],[463,1,463,3],[499,4,499,5],[502,4,502,5],[522,4,522,5],[520,1,520,3],[518,4,518,5],[521,4,521,5],[527,1,527,3],[526,4,526,5],[527,4,527,5],[519,4,519,5],[516,1,516,3],[510,1,510,3],[517,1,517,3],[521,1,521,3],[496,4,496,5],[477,4,477,5],[277,1,277,3],[487,1,487,3],[489,1,489,3],[283,4,283,5],[458,1,458,3],[485,1,485,3],[486,1,486,3],[479,4,479,5],[509,1,509,3],[515,1,515,3],[515,4,515,5],[504,4,504,5],[271,1,271,3],[274,4,274,5],[262,1,262,3],[264,4,264,5],[493,4,493,5],[489,4,489,5],[455,1,455,3],[460,1,460,3],[461,4,461,5],[475,1,475,3],[492,4,492,5],[495,1,495,3],[481,1,481,3],[493,1,493,3],[475,4,475,5],[464,1,464,3],[466,1,466,3],[470,1,470,3],[299,1,299,3],[500,4,500,5],[501,4,501,5],[487,4,487,5],[497,1,497,3],[261,1,261,3],[263,4,263,5],[275,4,275,5],[494,1,494,3],[495,4,495,5],[470,4,470,5],[494,4,494,5],[450,1,450,3],[479,1,479,3],[467,4,467,5],[480,4,480,5],[474,4,474,5],[488,1,488,3],[483,1,483,3],[484,4,484,5],[491,4,491,5],[491,1,491,3],[459,4,459,5],[466,4,466,5],[488,4,488,5],[439,4,439,5],[439,1,439,3],[465,4,465,5],[431,1,431,3],[436,1,436,3],[435,4,435,5],[428,1,428,3],[457,4,457,5],[442,1,442,3],[445,4,445,5],[426,4,426,5],[492,1,492,3],[476,4,476,5],[485,4,485,5],[496,1,496,3],[304,1,304,3],[301,1,301,3],[303,1,303,3],[498,1,498,3],[499,1,499,3],[500,1,500,3],[468,4,468,5],[482,1,482,3],[490,1,490,3],[490,4,490,5],[459,1,459,3],[498,4,498,5],[484,1,484,3],[497,4,497,5],[380,1,380,3],[376,4,376,5],[376,1,376,3],[371,4,371,5],[371,1,371,3],[369,1,369,3],[381,1,381,3],[379,4,379,5],[446,1,446,3],[463,4,463,5],[461,1,461,3],[460,4,460,5],[472,1,472,3],[443,1,443,3],[443,4,443,5],[501,1,501,3],[486,4,486,5],[256,1,256,3],[257,4,257,5],[264,1,264,3],[265,4,265,5],[270,4,270,5],[267,4,267,5],[261,4,261,5],[266,1,266,3],[279,4,279,5],[269,4,269,5],[254,4,254,5],[253,1,253,3],[253,4,253,5],[280,4,280,5],[258,1,258,3],[288,1,288,3],[284,4,284,5],[286,4,286,5],[275,1,275,3],[277,4,277,5],[260,4,260,5],[284,1,284,3],[278,4,278,5],[285,1,285,3],[276,1,276,3],[281,1,281,3],[259,1,259,3],[262,4,262,5],[282,4,282,5],[268,4,268,5],[256,4,256,5],[283,1,283,3],[219,1,219,3],[454,4,454,5],[276,4,276,5],[278,1,278,3],[218,4,218,5],[227,1,227,3],[223,1,223,3],[226,4,226,5],[226,1,226,3],[254,1,254,3],[313,4,313,5],[267,1,267,3],[302,4,302,5],[272,4,272,5],[242,1,242,3],[252,1,252,3],[272,1,272,3],[255,1,255,3],[270,1,270,3],[265,1,265,3],[259,4,259,5],[274,1,274,3],[266,4,266,5],[263,1,263,3],[257,1,257,3],[260,1,260,3],[258,4,258,5],[271,4,271,5],[273,4,273,5],[244,4,244,5],[273,1,273,3],[268,1,268,3],[213,4,213,5],[224,4,224,5],[214,1,214,3],[211,1,211,3],[230,4,230,5],[230,1,230,3],[245,4,245,5],[248,1,248,3],[250,1,250,3],[235,1,235,3],[236,4,236,5],[244,1,244,3],[241,4,241,5],[247,4,247,5],[240,1,240,3],[255,4,255,5],[242,4,242,5],[218,1,218,3],[229,1,229,3],[234,4,234,5],[231,1,231,3],[251,1,251,3],[243,1,243,3],[239,1,239,3],[221,4,221,5],[220,4,220,5],[232,4,232,5],[227,4,227,5],[229,4,229,5],[231,4,231,5],[228,1,228,3],[228,4,228,5],[225,1,225,3],[252,4,252,5],[249,1,249,3],[246,4,246,5],[233,4,233,5],[237,4,237,5],[240,4,240,5],[233,1,233,3],[234,1,234,3],[222,4,222,5],[221,1,221,3],[235,4,235,5],[236,1,236,3],[237,1,237,3],[241,1,241,3],[247,1,247,3],[238,4,238,5],[239,4,239,5],[243,4,243,5],[248,4,248,5],[251,4,251,5],[238,1,238,3],[232,1,232,3],[249,4,249,5],[225,4,225,5],[246,1,246,3],[250,4,250,5],[224,1,224,3],[245,1,245,3],[57,4,57,5],[92,1,92,3],[97,4,97,5],[106,4,106,5],[103,1,103,3],[164,1,164,3],[162,1,162,3],[161,4,161,5],[159,1,159,3],[163,4,163,5],[154,1,154,3],[152,1,152,3],[120,4,120,5],[159,4,159,5],[156,1,156,3],[147,4,147,5],[147,1,147,3],[155,4,155,5],[161,1,161,3],[93,1,93,3],[109,4,109,5],[144,4,144,5],[146,1,146,3],[108,1,108,3],[127,4,127,5],[122,1,122,3],[121,4,121,5],[117,4,117,5],[119,1,119,3],[134,4,134,5],[102,4,102,5],[97,1,97,3],[75,1,75,3],[88,4,88,5],[83,1,83,3],[84,4,84,5],[63,4,63,5],[82,4,82,5],[65,1,65,3],[87,4,87,5],[78,1,78,3],[91,4,91,5],[80,1,80,3],[89,1,89,3],[90,1,90,3],[72,4,72,5],[76,4,76,5],[77,1,77,3],[79,4,79,5],[81,4,81,5],[86,1,86,3],[85,4,85,5],[91,1,91,3],[85,1,85,3],[88,1,88,3],[89,4,89,5],[90,4,90,5],[87,1,87,3],[80,4,80,5],[75,4,75,5],[25,1,25,3],[15,4,15,5],[20,4,20,5],[48,4,48,5],[37,1,37,3],[41,1,41,3],[81,1,81,3],[84,1,84,3],[71,1,71,3],[73,1,73,3],[83,4,83,5],[71,4,71,5],[72,1,72,3],[59,4,59,5],[47,1,47,3],[43,4,43,5],[52,4,52,5],[22,4,22,5],[20,1,20,3],[30,1,30,3],[48,1,48,3],[56,4,56,5],[69,1,69,3],[47,4,47,5],[65,4,65,5],[79,1,79,3],[73,4,73,5],[53,1,53,3],[77,4,77,5],[78,4,78,5],[70,1,70,3],[67,4,67,5],[35,1,35,3],[38,4,38,5],[62,1,62,3],[52,1,52,3],[62,4,62,5],[60,1,60,3],[6,1,6,3],[6,4,6,5],[26,4,26,5],[0,8,1,8],[2,0,2,1],[16,4,16,5],[22,1,22,3],[13,4,13,5],[2,2,2,3],[2,4,2,5],[3,8,3,9],[3,5,3,6],[5,1,5,3],[34,1,34,3],[11,1,11,3],[26,1,26,3],[24,1,24,3],[27,1,27,3],[33,4,33,5],[8,4,8,5],[9,4,9,5],[28,1,28,3],[19,4,19,5],[31,4,31,5],[23,1,23,3],[9,1,9,3],[12,4,12,5],[11,4,11,5],[25,4,25,5],[17,4,17,5],[4,1,4,3],[24,4,24,5],[8,1,8,3],[13,1,13,3],[29,1,29,3],[66,4,66,5],[68,4,68,5],[63,1,63,3],[60,4,60,5],[69,4,69,5],[74,1,74,3],[14,4,14,5],[17,1,17,3],[23,4,23,5],[18,1,18,3],[10,1,10,3],[5,4,5,5],[4,4,4,5],[7,4,7,5],[19,1,19,3],[29,4,29,5],[7,1,7,3],[12,1,12,3],[57,1,57,3],[55,4,55,5],[51,4,51,5],[51,1,51,3],[50,4,50,5],[32,1,32,3],[31,1,31,3],[32,4,32,5],[54,1,54,3],[10,4,10,5],[123,1,123,3],[116,1,116,3],[100,1,100,3],[146,4,146,5],[139,1,139,3],[66,1,66,3],[76,1,76,3],[61,4,61,5],[64,1,64,3],[68,1,68,3],[86,4,86,5],[35,4,35,5],[36,4,36,5],[59,1,59,3],[46,1,46,3],[58,1,58,3],[82,1,82,3],[39,4,39,5],[38,1,38,3],[37,4,37,5],[67,1,67,3],[70,4,70,5],[45,4,45,5],[44,4,44,5],[44,1,44,3],[93,4,93,5],[98,4,98,5],[21,1,21,3],[34,4,34,5],[43,1,43,3],[64,4,64,5],[14,1,14,3],[30,4,30,5],[129,1,129,3],[125,4,125,5],[107,4,107,5],[61,1,61,3],[39,1,39,3],[46,4,46,5],[40,4,40,5],[49,1,49,3],[45,1,45,3],[58,4,58,5],[42,1,42,3],[49,4,49,5],[42,4,42,5],[40,1,40,3],[41,4,41,5],[16,1,16,3],[15,1,15,3],[18,4,18,5],[21,4,21,5],[27,4,27,5],[33,1,33,3],[36,1,36,3],[28,4,28,5],[54,4,54,5],[115,4,115,5],[119,4,119,5],[50,1,50,3],[55,1,55,3],[92,4,92,5],[150,4,150,5],[98,1,98,3],[121,1,121,3],[118,4,118,5],[124,1,124,3],[126,4,126,5],[127,1,127,3],[128,4,128,5]],"merged_total":1212,"flags":["merged_cut"]}
[{"$f":"Report!B21","v":120},{"$f":"Report!B23&\" \"&Report!C23","v":"GOOD STABLE"},{"$f":"Report!B11","v":0},{"$f":"Report!AD56","v":364},"(2) Live Chk_In",{"$f":"COUNTIF($H$5:$H$602,\"2\")","v":0},"Total Chk In",{"$f":"SUM(F1:F2)+D2+L4","v":23},null,null,{"$f":"Report!F20","v":" "},{"$f":"IF(P2=\"DST\",NOW()+5/24,NOW()+6/24)","v":45673.070908796297},null,{"$f":"COUNTIFS(CGCH!$B$5:$B$602,\"**\",CGCH!$H$5:$H$602,\"<>3\",CGCH!$H$5:$H$602,\"<>4\")+5","v":406},"2020-07-23","Rev:","2020","Daily Sht"]
[{"$f":"Report!B25&\" \"&Report!B27","v":"RAY KJ4SBC"},{"$f":"Report!D19","v":"KE5UU"},"(3) New",{"$f":"COUNTIF($H$5:$H$602,\"3\")","v":0},"(1) Early or Alibi",{"$f":"COUNTIF($H$5:$H$602,\"1\")","v":23},"(4),MSgs",{"$f":"COUNTIF($H$5:$H$602,\"4\")","v":0},null,null,{"$f":"Report!F21","v":"00:00:00"},"ZULU TIME    F9 TO UPDATE",null,null,{"$f":"A4","v":"2025-01-16"},{"$f":"Report!Q12","v":"DST"},"HURRICANE ROSTER.xlsm","Roster.file"]
[null,null,null,null,null,null,null,null,null,null,null,null,null,null,{"$f":"N1","v":406},null,"DAY CHECK-INS 2020","Month Sht"]
["2025-01-16",null,364,"401 NETS",null,null,null,null,null,null,"(5) Wolverine Net",{"$f":"COUNTIF($H$5:$H$602,\"5\")","v":0}]
[null,"ALABAMA",null,null,null,null,{"$f":"COUNTIFS(CGCH!$B$5:$B$501,\"*,AL\",CGCH!$H$5:$H$501,\">0\")","v":5}]
[0.95,"ADGER,AL",null,null,"KK4HND",null,"JEFFERY"]
[0.13,"ANDALUSLA,AL",null,null,"N4LBD",null,"LEWIS"]
[0.83,"ASHLAND,AL",null,null,"KM4HEO",null,"ALBERT"]
[0.22,"BAY MINETTE,AL",null,null,"KW4HB",null,"MICHAEL",null,null,null,null,null,null,null,null,null,null,null,"R A D I O G R A M"]
[0.49,"CARBON HILL,AL",null,null,"KO4NMX",null,"BILL",null,null,null,null,null,null,null,null,null," "]
[0.72,"CARBON HILL,AL",null,null,"W4ELI",null,"ELI"]
[0.16,"CODEN,AL",null,null,"KS4YV",null,"JEFF"]
[0.36,"COLUMBIANA,AL",null,null,"KD4GS",null,"JIM",null,null,null,null,null,null,null,null,null,null,null,"NUMBER:"]
[0.13,"CULLMAN,AL",null,null,"KO4WAU",null,"JONATHAN",null,null,null,null,null,null,null,null,null,null,null,"PRECEDENCE:"]
[0.16,"DAPHNE,AL",null,null,"KN4TNT",null,"IAN",null,null,null,null,null,null,null,null,null,null,null,"HX:"]
[0.16,"DAPHNE,AL",null,null,"KN4TNU",null,"ANITA",null,null,null,null,null,null,null,null,null,null,null,"STATION OF ORIGIN:"]
[0.17,"DEMOPOLIS,AL",null,null,"N4HYT",null,"DAN ",null,null,null,null,null,null,null,null,null,null,null,"CHECK:"]
[0.1,"EIGHT MILE,AL",null,null,"KI4OOL",null,"RONALD",null,null,null,null,null,null,null,null,null,null,null,"PLACE OF ORIGIN:"]
[0.19,"FAYETTE,AL",null,null,"N4RNA",null,"RONALD",null,null,null,null,null,null,null,null,null,null,null,"TIME FILED:"]
[0.17,"FLORENCE,AL",null,null,"WA4CLA",null,"STEVE",null,null,null,null,null,null,null,null,null,null,null,"DATE REC'VD:"]
[0.12,"GILBERTOWN,AL",null,null,"KE4ROA",null,"DENNIS"]
[0.82,"GULF SHORES,AL",null,null,"WA4MZE",null,"VICTOR",null,null,null,null,null,null,null,null,null,null,null,"TO:NAME"]
[0.11,"HAYDEN,AL",null,null,"KG4RYQ",null,"JOE",null,null,null,null,null,null,null,null,null,null,null,"ADDRESS 1"]
[0.1,"HOOVER,AL",null,null,"KQ4CST",null,"KEITH",null,null,null,null,null,null,null,null,null,null,null,"ADDRESS 2"]
[0.09,"JACKSON,AL",null,null,"KD4PMD",null,"JIMMY"]
[0.81,"JASPER,AL",null,null,"KO4NMT",null,"MIKE",null,null,null,null,null,null,null,null,null,null,null,"TELEPHONE #"]
[0.73,"McINTOSH,AL",null,null,"KM4W",null,"JOHNNY"]
[0.26,"MOBILE,AL",null,null,"KA5NSH",null,"JAMES",null,null,null,null,null,null,null,null,null,null,null,"MESSAGE"]
[0.45,"MOBILE,AL",null,null,"KI4UUI",null,"GARY"]
[0.28000000000000003,"MOBILE,AL",null,null,"W4WMM",null,"ALAN"]
[0.76,"MONTGOMERY,AL",null,null,"K4DJL",null,"EL"]
[0.55000000000000004,"MT VERNON,AL",null,null,"KX4US",null,"DAVE"]
[0.95,"MULGA,AL",null,null,"AK4LQ",null,"NANCY"]
[1,"MULGA,AL",null,null,"WD4IGK",null,"DERYL",1,"RELAY"]
[0.25,"ODENVILLE,AL",null,null,"KQ4ESQ",null,"JOHN"]
[0.12,"ODENVILLE,AL",null,null,"W9YQ",null,"THOMAS",null,null,null,null,null,null,null,null,null,null,null,"REC'VD FROM"]
[0.25,"OPP,AL",null,null,"AL0F",null,"TIM",null,null,null,null,null,null,null,null,null,null,null,"REC'VD DATE"]
[0.78,"OPP,AL",null,null,"WB4AB",null,"WAYNE",null,null,null,null,null,null,null,null,null,null,null,"REC'VD TIME"]
[0.24,"OZARK,AL",null,null,"N4OZK",null,"MICHAEL"]
[0.18,"PELHAM,AL",null,null,"KN4DLV",null,"TERRY",null,null,null,null,null,null,null,null,null,null,null,"SENT TO"]
[0.43,"PELHAM,AL",null,null,"KO4PC",null,"DUDLEY",null,null,null,null,null,null,null,null,null,null,null,"SENT DATE"]
[0.35,"PELL CITY,AL",null,null,"KS4ZV",null,"KEN",null,null,null,null,null,null,null,null,null,null,null,"SENT TIME"]
[0.12,"PELL CITY,AL",null,null,"KE4BYG",null,"CAROLYN"]
[0.74,"SILVERHILL,AL",null,null,"K4LLL",null,"RICK"]
[0.63,"SYLACAUGA,AL",null,null,"K4JLO",null,"JEANNIE",null,null,null,null,null,null,null,null,null,null,null,"REC'VD BY"]
[0.63,"SYLACAUGA,AL",null,null,"W4JGD",null,"GLENN"]
[1,"SYLACAUGA,AL",null,null,"WD4SS",null,"JON",1,"NCO-Saturday"]
[1,"TRUSSVILLE,AL",null,null,"AG5AT",null,"AUGUST",1,"Web_Master"]
[1,"TRUSSVILLE,AL",null,null,"KN4ZFH",null,"TOM",1,"RELAY"]
[1,"WARRIOR,AL",null,null,"KD4CIF",null,"MIKE",1,"RELAY"]
[0.35,"WARRIOR,AL",null,null,"KD4ONB",null,"GODFREY"]
[0.73,"WARRIOR,AL",null,null,"N4UKE",null,"WILLIAM"]
[0.52,"WARRIOR,AL",null,null,"W3NH",null,"OWEN"]
[null,"ARIZONA",null,null,null,null,{"$f":"COUNTIFS(CGCH!$B$5:$B$501,\"*,AZ\",CGCH!$H$5:$H$501,\">0\")","v":0}]
[0.84,"OVERGAARD,AZ",null,null,"W7QHZ",null,"MARTIN"]
[null,"ARKANSAS",null,null,null,null,{"$f":"COUNTIFS(CGCH!$B$5:$B$501,\"*,AR\",CGCH!$H$5:$H$501,\">0\")","v":5}]
[0.62,"ARKADELPHIA,AR",null,null,"KC5GFL",null,"FRED"]
[1,"ARKADELPHIA,AR",null,null,"KE5VLX",null,"CHUCK",1,"NCO-Wednesday"]
[0.19,"ARKADELPHIA,AR",null,null,"N5OEZ",null,"DAVID"]
[0.78,"BATESVILLE,AR",null,null,"KI5KVU",null,"RUSSELL",1,"RELAY"]
[0.15,"BEE BRANCH,AR",null,null,"KD5WDJ",null,"KEITH"]
[0.49,"BERRYVILLE,AR",null,null,"K5LLC",null,"LARRY"]
[0.1,"BERRYVILLE,AR",null,null,"KG5YJW",null,"JEFF"]
[0.5,"BERRYVILLE,AR",null,null,"W5PWH",null,"DAN"]
[0.57999999999999996,"BROOKLAND,AR",null,null,"KC5SM",null,"SUSIE"]
[0.57999999999999996,"BROOKLAND,AR",null,null,"WB5E",null,"JOE"]
[1,"COMPTON,AR",null,null,"WA5ARJ",null,"TERRY",1,"RELAY"]
[0.34,"CONWAY,AR",null,null,"AE5GH",null,"GERALD"]
[0.52,"DELIGHT,AR",null,null,"KJ5EXJ",null,"WILLIAM"]
[0.68,"FORT SMITH,AR",null,null,"N5EMS",null,"GARY"]
[0.51,"HARRISON,AR",null,null,"KE5TKZ",null,"JACK"]
[0.12,"HATTIEVILLE,AR",null,null,"K5ZZB",null,"ROBERT"]
[0.7,"HOT SPRINGS VILLAGE,AR",null,null,"K0TXT",null,"JIM"]
[0.89,"HOT SPRINGS VILLAGE,AR",null,null,"KA5NWF",null,"GENE"]
[0.48,"HOT SPRINGS VILLAGE,AR",null,null,"KI5EDO",null,"EDDIE"]
[0.27,"HOT SPRINGS,AR",null,null,"W5MZ",null,"DAVID"]
[0.1,"JASPER,AR",null,null,"N5VKO",null,"JOHNNY"]
[0.14000000000000001,"JONESBORO,AR",null,null,"KC5GVC",null,"MIKE"]
[0.6,"LOCKESBURG,AR",null,null,"W5MDG",null,"MIKE"]
[0.13,"LONOKE,AR",null,null,"K5WC",null,"JOHN"]
[0.88,"MALVERN,AR",null,null,"W5TPK",null,"TYLER"]
[0.68,"MOUNTAIN VIEW,AR",null,null,"KF5JJ",null,"JOHN"]
[0.09,"PARAGOULD,AR",null,null,"W1KLM",null,"KEVIN"]
[0.59,"PARAGOULD,AR",null,null,"W5MOE",null,"MOE"]
[0.49,"POTTSVILLE,AR",null,null,"W5QC",null,"STEVE"]
[0.08,"ROSSTON,AR",null,null,"K5YL",null,"JODY"]
[1,"RUSSELLVILLE,AR",null,null,"KE5UU",null,"KEN",1,"Liaison"]
[0.69,"RUSSELLVILLE,AR",null,null,"N5XUZ",null,"RAY"]
[0.68,"RUSSELLVILLE,AR",null,null,"N8GKT",null,"JEFF"]
[0.15,"SEARCY,AR",null,null,"K5GBA",null,"GREGORY"]
[0.41,"SHIRLEY,AR",null,null,"K5KER",null,"RANDY",1,"NCS"]
[0.44,"WALDO,AR",null,null,"K5NTT",null,"MATT"]
[0.09,"WESLEY,AR",null,null,"KJ5FDT",null,"CHARLES"]
[0.15,"WESTERN GROVE,AR",null,null,"KJ5FGL",null,"JOHN"]
[null,"CALIFORNIA",null,null,null,null,{"$f":"COUNTIFS(CGCH!$B$5:$B$501,\"*,CA\",CGCH!$H$5:$H$501,\">0\")","v":0}]
[0.97,"SANTA BARBARA,CA",null,null,"KM6PRP",null,"HENRY"]
[null,"FLORIDA",null,null,null,null,{"$f":"COUNTIFS(CGCH!$B$5:$B$501,\"*,FL\",CGCH!$H$5:$H$501,\">0\")","v":1}]
[0.59,"COTTONDALE,FL",null,null,"W4AOK",null,"WINFORD"]
[0.32,"FREEPORT,FL",null,null,"W9OFF",null,"RON"]
[0.28000000000000003,"LECANTO,FL",null,null,"K4SOP",null,"WAYNE"]
[0.09,"MARY ESTHER,FL",null,null,"N4ICF",null,"STEVEN"]
[0.19,"MARIANNA,FL",null,null,"AB4BU",null,"WALLACE"]
[0.1,"MIDDLEBURG,FL",null,null,"KT4NN",null,"PETER"]
[0.72,"MILTON,FL",null,null,"WA5HC",null,"HAL"]
[0.95,"MONTICELLO,FL",null,null,"KM4TTS",null,"ANDY"]
[0.96,"PANAMA CITY,FL",null,null,"W4NNO",null,"MARTY"]
[0.5,"PENSACOLA,FL",null,null,"AB4LO",null,"PAUL"]
[0.97,"PENSACOLA,FL",null,null,"KN4PCX",null,"BILL"]
[0.67,"PORT ST JOE,FL",null,null,"K4NEB",null,"NORM"]
[1,"SANDERSON,FL",null,null,"KK4NCF",null,"TOM",1,"RELAY"]
[0.66,"TALLAHASSEE,FL",null,null,"K9FLA",null,"PHILIP"]
[0.08,"WEWAHITCHKA,FL",null,null,"W4GMH",null,"CAL"]
[null,"GEORGIA",null,null,null,null,{"$f":"COUNTIFS(CGCH!$B$5:$B$501,\"*,GA\",CGCH!$H$5:$H$501,\">0\")","v":0}]
[0.12,"ATLANTA,GA",null,null,"W4MTJ",null,"MIKE"]
[0.36,"BARNESVILLE,GA",null,null,"K4HUM",null,"LEONARD"]
[0.24,"BYRON,GA",null,null,"W4ZSZ",null,"FLOYD"]
[0.12,"ELLENWOOD,GA",null,null,"KN4MXZ",null,"WALTER"]
[0.35,"NEWBORN,GA",null,null,"W4NOC",null,"KEN"]
[0.31,"NEWNAN,GA",null,null,"KI4HHJ",null,"DAVID"]
[0.74,"NORCROSS,GA",null,null,"N8BCF",null,"BOB"]
[0.08,"ROME,GA",null,null,"N2UMV",null,"DEBORAH"]
[0.2,"ROOPVILLE,GA",null,null,"KI4CS",null,"CHARLES"]
[0.09,"STATESBORO,GA",null,null,"KQ4KEH",null,"RON"]
[0.73,"THOMASTON,GA",null,null,"AJ5X",null,"BOB"]
[null,"ILLINOIS",null,null,null,null,{"$f":"COUNTIFS(CGCH!$B$5:$B$501,\"*,IL\",CGCH!$H$5:$H$501,\">0\")","v":0}]
[0.5,"CARTERVILLE,IL",null,null,"KD4LEO",null,"LEONARD"]
[0.09,"CENTRALIA,IL",null,null,"KC9VMJ",null,"LONNY"]
[0.49,"FITHIAN,IL",null,null,"KA9EES",null,"ED"]
[0.09,"FREEPORT,IL",null,null,"KD9QDP",null,"THOMAS"]
[0.76,"MASON CITY,IL",null,null,"K9ZQ",null,"MARK"]
[0.1,"MARION,IL",null,null,"W3JML",null,"JUAN"]
[0.77,"PETERSBURG,IL",null,null,"KD4UTL",null,"BRIAN"]
[0.67,"SALEM,IL",null,null,"W5MM",null,"DAN"]
[null,"INDIANA",null,null,null,null,{"$f":"COUNTIFS(CGCH!$B$5:$B$501,\"*,IN\",CGCH!$H$5:$H$501,\">0\")","v":0}]
[0.38,"ANDERSON,IN",null,null,"W6OYW",null,"TERRY"]
[0.56999999999999995,"BEVERLY SHORES,IN",null,null,"W9ZD",null,"RICHARD"]
[0.09,"BLOOMINGTON,IN",null,null,"KD9KZS",null,"DAVE"]
[0.35,"ELKHART,IN",null,null,"KC9YAV",null,"DAVID"]
[0.44,"FT WAYNE,IN",null,null,"KD9HAV",null,"NORM"]
[0.28999999999999998,"GOSHEN,IN",null,null,"K9JJM",null,"JEFF"]
[0.41,"HIGHLAND,IN",null,null,"AC9XN",null,"GEORGE"]
[0.33,"HOBART,IN",null,null,"KC9KRX",null,"BRADLEY"]
[null,"IOWA",null,null,null,null,{"$f":"COUNTIFS(CGCH!$B$5:$B$501,\"*,IA\",CGCH!$H$5:$H$501,\">0\")","v":0}]
[null,"KANSAS",null,null,null,null,{"$f":"COUNTIFS(CGCH!$B$5:$B$501,\"*,KS\",CGCH!$H$5:$H$501,\">0\")","v":0}]
[0.13,"BALDWIN CITY,KS",null,null,"N6UOP",null,"JOHN"]
[null,"KENTUCKY",null,null,null,null,{"$f":"COUNTIFS(CGCH!$B$5:$B$501,\"*,KY\",CGCH!$H$5:$H$501,\">0\")","v":0}]
[0.12,"BARDSTOWN,KY",null,null,"AE4NU",null,"TOM"]
[0.11,"LOCKPORT,LA",null,null,"KJ5GOV",null,"JONATHAN"]
[0.11,"LOUISA,KY",null,null,"K4LID",null,"THOMAS"]
[0.1,"NEW CONCORD,KY",null,null,"W4PJC",null,"JOHN"]
[0.76,"MORGANTOWN,KY",null,null,"KN4MAA",null,"RICHARD"]
[0.1,"OWENSBORO,KY",null,null,"AA4RL",null,"BOBBY"]
[null,"LOUISIANA",null,null,null,null,{"$f":"COUNTIFS(CGCH!$B$5:$B$501,\"*,LA\",CGCH!$H$5:$H$501,\">0\")","v":3}]
[0.97,"ABITA SPRINGS,LA",null,null,"K5HUM",null,"MIKE"]
[0.7,"AMITE,LA",null,null,"KE5GMN",null,"ED"]
[0.7,"AMITE,LA",null,null,"KE5KMM",null,"PAT"]
[0.7,"AMITE,LA",null,null,"W5TEO",null,"TANGI"]
[0.5,"ARNAUDVILLE,LA",null,null,"N5DAL",null,"MIKE"]
[0.32,"BALL,LA",null,null,"KD5DFL",null,"SCOTT"]
[0.1,"BATON ROUGE,LA",null,null,"K5VV",null,"MATT"]
[0.13,"BENTLEY,LA",null,null,"K5TS",null,"DAVE"]
[0.11,"BETHANY,LA",null,null,"KF5ORM",null,"ANDY"]
[0.55000000000000004,"BOSSIER CITY,LA",null,null,"K5GAD",null,"GEORGE"]
[0.24,"CHURCH POINT,LA",null,null,"KJ5CLE",null,"SHAWN"]
[0.15,"CLINTON,LA",null,null,"N5LRY",null,"LARRY"]
[0.74,"COTTAU HOMES,LA",null,null,"KB5TWL",null,"MITCH"]
[0.68,"CUT OFF,LA",null,null,"N5DPL",null,"NED"]
[0.75,"DENHAN SPRINGS,LA",null,null,"N5WWL",null,"JJ"]
[0.99,"DES ALEMANDS,LA",null,null,"KK4JLC",null,"TIM"]
[0.51,"DRY PRONG,LA",null,null,"N5GJQ",null,"MICHAEL"]
[0.13,"ELM GROVE,LA",null,null,"KG5YK",null,"ROBERT",1,"RELAY"]
[0.55000000000000004,"FOLSOM,LA",null,null,"N5RYI",null,"WALTER"]
[0.7,"GONZALES,LA",null,null,"K5ARC",null,"EOC-Rg3"]
[0.74,"HAMMOND,LA",null,null,"KG5WQI",null,"BUTCH",1,"ILLNESS"]
[0.08,"HAMMOND,LA",null,null,"N5RXK",null,"BARRY"]
[0.77,"JENA,LA",null,null,"WA5KOS",null,"DON"]
[0.93,"LAFAYETTE,LA",null,null,"K5LSA",null,"SALV ARMY"]
[0.83,"LAFAYETTE,LA",null,null,"KN5GRK",null,"HERMAN"]
[0.09,"LAFAYETTE,LA",null,null,"WM5TS",null,"DERRICK"]
[0.28000000000000003,"LAKE CHARLES,LA",null,null,"KC5JMJ",null,"JOSH"]
[0.28000000000000003,"LAKE CHARLES,LA",null,null,"KC5ZEJ",null,"DAVE"]
[0.17,"LAKE CHARLES,LA",null,null,"KG5SBA",null,"DAVID"]
[0.28000000000000003,"LAKE CHARLES,LA",null,null,"KG5TED",null,"TED"]
[0.13,"LECOMPTE,LA",null,null,"KA5TON",null,"DAVID"]
[0.51,"LEESVILLE,LA",null,null,"W5JZQ",null,"JESSIE"]
[0.28000000000000003,"LEESVILLE,LA",null,null,"WB5LHD",null,"JERRY"]
[0.79,"LORANGER,LA",null,null,"N5WJA",null,"JIM"]
[0.28999999999999998,"MAURICE,LA",null,null,"KJ5DZV",null,"DANNY"]
[0.14000000000000001,"METAIRIE,LA",null,null,"K5NQ",null,"DALE"]
[0.11,"METAIRIE,LA",null,null,"W5UM",null,"MICHAEL"]
[0.17,"MONTGOMERY,LA",null,null,"KJ5FAP",null,"ERIC"]
[0.1,"MORGAN CITY,LA",null,null,"AE5JU",null,"PAUL"]
[0.7,"MORGAN CITY,LA",null,null,"W5BMC",null,"EOC"]
[0.7,"NEW ORLEANS,LA",null,null,"W5OEP",null,"EOC"]
[0.94,"PEARL RIVER,LA",null,null,"AA5UY",null,"JOHN"]
[0.94,"PEARL RIVER,LA",null,null,"AA5UZ",null,"JUDY"]
[0.71,"PINEVILLE,LA",null,null,"W5ETL",null,"JACK"]
[0.15,"PONCHATOULA,LA",null,null,"KG5AAE",null,"DEAN"]
[1,"PONCHATOULA,LA",null,null,"N5JHF",null,"JOHN",1,"Past Net Scribe"]
[0.51,"RAYNE,LA",null,null,"AC5PG",null,"HARRY"]
[0.97,"RIVER RIDGE,LA",null,null,"WB5QDR",null,"RON"]
[0.41,"RUSTON,LA",null,null,"KG5HOO",null,"DEAN"]
[0.51,"RUSTON,LA",null,null,"KG5KBO",null,"MIKE"]
[0.83,"RUSTON,LA",null,null,"WC5K",null,"CHARLES"]
[0.83,"SHREVEPORT,LA",null,null,"KC5OHO",null,"MIKE"]
[0.5,"SPRINGFIELD,LA",null,null,"N5XES",null,"TYRONE"]
[0.28000000000000003,"ST FRANCISVILLE,LA",null,null,"N5CI",null,"DOUGLAS"]
[0.28000000000000003,"ST FRANCISVILLE,LA",null,null,"N5OIL",null,"STEVEN"]
[0.51,"THIBODAUX,LA",null,null,"KC5AVM",null,"ROLAND"]
[0.67,"THIBODAUX,LA",null,null,"WB4YTG",null,"ALLEN"]
[0.09,"TULLOS,LA",null,null,"KG5KRZ",null,"JOE"]
[0.14000000000000001,"VILLE PLATTE,LA",null,null,"W5IS",null,"DOUGLAS"]
[0.1,"WEST LAKE,LA",null,null,"N0MSW",null,"JIM"]
[0.12,"WEST MONROE,LA",null,null,"AD5XM",null,"WALLACE"]
[0.52,"WEYANOKE,LA",null,null,"KG5KGP",null,"RICK"]
[0.15,"WOODWORTH,LA",null,null,"W5LD",null,"DENNIS"]
[null,"MASSACHUSETTS",null,null,null,null,{"$f":"COUNTIFS(CGCH!$B$5:$B$501,\"*,MA\",CGCH!$H$5:$H$501,\">0\")","v":0}]
[0.12,"CARLISLE,MA",null,null,"KC1UFQ",null,"MICHAEL"]
[null,"MICHIGAN",null,null,null,null,{"$f":"COUNTIFS(CGCH!$B$5:$B$501,\"*,MI\",CGCH!$H$5:$H$501,\">0\")","v":2}]
[0.32,"BELDING,MI",null,null,"N8SOT",null,"BRIAN"]
[0.21,"CANTON,MI",null,null,"KE8NED",null,"MARK"]
[1,"CASEVILLE,MI",null,null,"N8KRQ",null,"BOB",1,"Relay"]
[0.68,"CLARKSTON,MI",null,null,"WD8INW",null,"GEORGE"]
[0.38,"COLOMA,MI",null,null,"K8CGS",null,"GREG"]
[1,"EATON RAPIDS,MI",null,null,"KC8EHR",null,"CLINT",1,"RELAY"]
[0.51,"FLINT,MI",null,null,"W8TRU",null,"BRIAN"]
[0.46,"FORT GRATIOT,MI",null,null,"N8SOB",null,"SHAUN"]
[0.28999999999999998,"FREELAND,MI",null,null,"KB8MCI",null,"JODY"]
[0.16,"FREEPORT,MI",null,null,"KE8VN",null,"KEVIN"]
[0.34,"GLADWIN,MI",null,null,"W8CSX",null,"JOHN"]
[0.11,"GRAND RAPIDS,MI",null,null,"N8DGD",null,"TOM"]
[0.27,"IMLAY CITY,MI",null,null,"K8ICB",null,"BOB"]
[0.46,"LAMBERTVILLE,MI",null,null,"WB8VOW",null,"RUSTY"]
[0.24,"MADISON HEIGHTS,MI",null,null,"AD8FK",null,"LEONARD"]
[0.53,"MANCHESTER,MI",null,null,"N8XUY",null,"SAM"]
[0.28999999999999998,"MONROE,MI",null,null,"WB8PFC",null,"MAURICE"]
[0.38,"NEW BUFFALO,MI",null,null,"KA8UGB",null,"TONY"]
[0.11,"NEW BUFFALO,MI",null,null,"N8DAF",null,"DEBI"]
[0.15,"NORTON SHORES,MI",null,null,"W8KS",null,"JEFF"]
[0.18,"ORTONVILLE,MI",null,null,"KE8TMG",null,"MICHAEL"]
[0.64,"ROMULUS,MI",null,null,"K8TAS",null,"TAS"]
[0.64,"ROMULUS,MI",null,null,"K8DXJ",null,"DORIS"]
[0.14000000000000001,"SAINT HELLEN,MI",null,null,"KB8PRU",null,"CHARLES"]
[0.23,"SANFORD,MI",null,null,"W8LS",null,"LARRY"]
[0.09,"VAN BUREN twp,MI",null,null,"W4FSW",null,"DAVID"]
[0.09,"WHITE LAKE,MI",null,null,"KB8OBG",null,"RICHARD"]
[null,"MINNESOTA",null,null,null,null,{"$f":"COUNTIFS(CGCH!$B$5:$B$501,\"*,MN\",CGCH!$H$5:$H$501,\">0\")","v":0}]
[null,"MISSISSIPPI",null,null,null,null,{"$f":"COUNTIFS(CGCH!$B$5:$B$501,\"*,MS\",CGCH!$H$5:$H$501,\">0\")","v":0}]
[0.96,"BEAUMONT,MS",null,null,"K5DJW",null,"DAVID"]
[0.34,"BILOXI,MS",null,null,"W5JGW",null,"JEFF"]
[0.18,"CARRIERE,MS",null,null,"KF5LQB",null,"JIM"]
[0.28999999999999998,"COLUMBUS,MS",null,null,"W5HNZ",null,"JOEY"]
[0.13,"CRYSTALSPRINGS,MS",null,null,"AC5Y",null,"ALEX"]
[0.9,"DIAMONDHEAD,MS",null,null,"KA5EPR",null,"KAREN"]
[0.9,"DIAMONDHEAD,MS",null,null,"W5RWF",null,"BILL"]
[0.11,"FLOWOOD,MS",null,null,"K0UPW",null,"JIM"]
[0.19,"GLOSTER,MS",null,null,"K5MCK",null,"BUDDY"]
[0.16,"GLOSTER,MS",null,null,"KX5E",null,"WILLIE"]
[0.72,"LONG BEACH,MS",null,null,"KF5BA",null,"BOBBY"]
[0.75,"LUCEDALE,MS",null,null,"WA5MVG",null,"RICHARD"]
[0.2,"MAGEE,MS",null,null,"K5EJY",null,"LEE"]
[0.57999999999999996,"MCCOMB,MS",null,null,"WD5HLE",null,"LARRY"]
[0.22,"MOSS POINT,MS",null,null,"KB5GUN",null,"NEIL"]
[0.24,"NATCHEZ,MS",null,null,"KD5JII",null,"HUGH"]
[0.76,"NATCHEZ,MS",null,null,"KJ5OZ",null,"ERIC"]
[0.1,"NATCHEZ,MS",null,null,"WW5P",null,"GREG"]
[0.7,"OSYKA,MS",null,null,"KI5DBH",null,"EOC"]
[0.11,"SALTILLO,MS",null,null,"KG5LEU",null,"KENNY"]
[0.36,"TERRY,MS",null,null,"KG5SQZ",null,"MAURY"]
[0.31,"WAYNESBORO,MS",null,null,"AI5BL",null,"BRAD"]
[null,"MISSOURI",null,null,null,null,{"$f":"COUNTIFS(CGCH!$B$5:$B$501,\"*,MO\",CGCH!$H$5:$H$501,\">0\")","v":1}]
[0.11,"BLACKWELL,MO",null,null,"KF0SMU",null,"LEE"]
[0.11,"BRANSON,MO",null,null,"AB0BH",null,"BILL"]
[0.49,"BRANSON,MO",null,null,"KC0M",null,"LARRY"]
[0.75,"COLUMBIA,MO",null,null,"N8HSD",null,"HAL"]
[0.1,"EL DORADO SPRINGS,MO",null,null,"N0SAJ",null,"JEFF"]
[0.67,"EMINENCE,MO",null,null,"KD0FFL",null,"DIANE"]
[1,"EMINENCE,MO",null,null,"W0WWR",null,"JEREMIAH",1,"NCO-Monday"]
[0.09,"HARRISONVILLE,MO",null,null,"W0JD",null,"JAY"]
[0.08,"NIXA,MO",null,null,"K0OLD",null,"BRIAN"]
[0.11,"RAYMONDVILLE,MO",null,null,"KB0LTM",null,"BOB"]
[0.92,"SAINT PETERS,MO",null,null,"N0HDM",null,"DAVID"]
[0.1,"SALEM,MO",null,null,"KE5CSU",null,"JEREMY"]
[null,"NEW MEXICO",null,null,null,null,{"$f":"COUNTIFS(CGCH!$B$5:$B$501,\"*,NM\",CGCH!$H$5:$H$501,\">0\")","v":1}]
[1,"FLOYD,NM",null,null,"AA5LT",null,"LYNDELL",1,"RELAY"]
[0.71,"LAS CRUCES,NM",null,null,"KM5ZE",null,"WARREN"]
[null,"N. CAROLINA",null,null,null,null,{"$f":"COUNTIFS(CGCH!$B$5:$B$501,\"*,NC\",CGCH!$H$5:$H$501,\">0\")","v":0}]
[0.13,"ASHVILLE,NC",null,null,"KG4YVS",null,"SHAWN"]
[0.74,"KANNAPOLIS,NC",null,null,"KA4ATT",null,"SAM"]
[0.95,"LAKE LURE,NC",null,null,"K4UVX",null,"DAVID"]
[0.96,"LANDIS,NC",null,null,"W1CFL",null,"JAMES"]
[0.15,"MILLERS CREEK,NC",null,null,"KE4DGP",null,"DWAYNE"]
[null,"OHIO",null,null,null,null,{"$f":"COUNTIFS(CGCH!$B$5:$B$501,\"*,OH\",CGCH!$H$5:$H$501,\">0\")","v":0}]
[0.18,"BOWLING GREEN,OH",null,null,"K8DLF",null,"DALLAS"]
[0.4,"BURTON,OH",null,null,"AB8MO",null,"ANDREW"]
[0.2,"CHIPPEWA LAKE,OH",null,null,"K8ZAR",null,"KEN"]
[0.22,"MAYFIELD HEIGHTS,OH",null,null,"N2JAF",null,"CALVIN"]
[0.11,"NEWARK,OH",null,null,"KF8CKP",null,"RON"]
[0.12,"PLEASANT PLAIN,OH",null,null,"K8FXY",null,"JOSHUA"]
[0.14000000000000001,"SEVILLE,OH",null,null,"KE8QWE",null,"JAMES"]
[0.21,"UNIONTOWN,OH",null,null,"KE8TQR",null,"KEITH"]
[null,"OKLAHOMA",null,null,null,null,{"$f":"COUNTIFS(CGCH!$B$5:$B$501,\"*,OK\",CGCH!$H$5:$H$501,\">0\")","v":0}]
[0.19,"ALTUS,OK",null,null,"KB5SYL",null,"DAVE"]
[0.53,"BROKEN ARROW,OK",null,null,"W8AW",null,"DON"]
[0.38,"CARNEGIE,OK",null,null,"KB5VX",null,"PHIL"]
[0.19,"COOKSON,OK",null,null,"WA5YXH",null,"WOODY"]
[0.97,"LAWTON,OK",null,null,"N5IZ",null,"RAY"]
[0.63,"TAHLEQUAH,OK",null,null,"N5NRL",null,"DEVAN"]
[0.22,"TAHLEQUAH,OK",null,null,"WA5VXI",null,"MANUEL"]
[0.23,"VINITA,OK",null,null,"KB5TWP",null,"GARY"]
[0.12,"WELLSTON,OK",null,null,"WB5LPT",null,"JACK"]
[null,"PENNSYLVANIA",null,null,null,null,{"$f":"COUNTIFS(CGCH!$B$5:$B$501,\"*,PA\",CGCH!$H$5:$H$501,\">0\")","v":0}]
[0.21,"GRINDSTONE,PA",null,null,"K3EMF",null,"BOB"]
[0.09,"LANSDALE,PA",null,null,"N2OWE",null,"GEORGE"]
[null,"S. CAROLINA",null,null,null,null,{"$f":"COUNTIFS(CGCH!$B$5:$B$501,\"*,SC\",CGCH!$H$5:$H$501,\">0\")","v":0}]
[0.5,"JOHNSONVILLE,SC",null,null,"WT4SO",null,"JOHN"]
[null,"TENNESSEE",null,null,null,null,{"$f":"COUNTIFS(CGCH!$B$5:$B$501,\"*,TN\",CGCH!$H$5:$H$501,\">0\")","v":1}]
[0.63,"BIG SANDY,TN",null,null,"N4ZPD",null,"TOMMY"]
[0.5,"BROWNSVILLE,TN",null,null,"KD4AOH",null,"BILL"]
[0.39,"CLARKSVILLE,TN",null,null,"KK4EKK",null,"DONNIE"]
[0.12,"CLARKSVILLE,TN",null,null,"WD4FXX",null,"MICAH"]
[0.09,"CLEVELAND,TN",null,null,"N4AOW",null,"JOHN"]
[1,"COLLIERVILLE,TN",null,null,"KJ4SBC",null,"RAY",1,"NET MANAGER"]
[0.53,"CROSSVILLE,TN",null,null,"W4WWV",null,"MARK"]
[0.11,"DEL RIO,TN",null,null,"KI4JWS",null,"FREDDIE"]
[0.08,"DIXON SPRINGS,TN",null,null,"KQ4HQZ",null,"ROGER"]
[0.09,"GERMANTOWN,TN",null,null,"AD4GG",null,"TODD"]
[0.69,"JACKSON,TN",null,null,"WT4RC",null,"RDCROSS"]
[0.27,"SHELBYVILLE,TN",null,null,"KQ4QCC",null,"BO"]
[0.84,"THOMPSONS STATION,TN",null,null,"AI5E",null,"GARY"]
[0.4,"WARTBURG,TN",null,null,"K4OK",null,"DONALD"]
[null,"TEXAS",null,null,null,null,{"$f":"COUNTIFS(CGCH!$B$5:$B$602,\"*,TX\",CGCH!$H$5:$H$602,\">0\")","v":4}]
[0.1,"ALVIN,TX",null,null,"WD9GET",null,"KEITH"]
[0.12,"AMARILLO,TX",null,null,"N5ZRW",null,"RAY"]
[0.75,"BARKSDALE,TX",null,null,"KA5HWH",null,"BOB"]
[0.12,"BLOSSOM,TX",null,null,"KG5PIN",null,"DARRELL"]
[1,"BOWIE,TX",null,null,"N5CRK",null,"CARL",1,"RELAY"]
[0.56999999999999995,"BOWIE,TX",null,null,"N5MSE",null,"ALAN"]
[0.9,"BROOKELAND,TX",null,null,"KG5DLF",null,"MICHAEL"]
[0.71,"BUFFALO,TX",null,null,"KC5IMW",null,"NICK"]
[0.11,"BUNA,TX",null,null,"W5TGK",null,"ROBERT"]
[0.88,"BURNET,TX",null,null,"W5HOC",null,"DON"]
[0.82,"CALL,TX",null,null,"K5DDM",null,"DAVE"]
[0.12,"CAMERON,TX",null,null,"KJ5CEU",null,"MARK"]
[0.12,"CANYON LAKE,TX",null,null,"K5YPY",null,"BRIAN"]
[0.84,"CASTROVILLE,TX",null,null,"K5YDE",null,"BILL"]
[0.31,"CONROE,TX",null,null,"KC5LWK",null,"DOUG"]
[0.7,"CYPRESS,TX",null,null,"AB5RJ",null,"RJ"]
[0.56000000000000005,"FLINT,TX",null,null,"KG5SRD",null,"ARCHIE"]
[0.49,"FLINT,TX",null,null,"W5BZW",null,"MICHAEL"]
[0.31,"GROVES,TX",null,null,"KD5QDO",null,"JEFF"]
[0.38,"HENRIETTA,TX",null,null,"KA5WLR",null,"LARRY"]
[0.11,"HUMBLE,TX",null,null,"KK5HR",null,"RODNEY"]
[0.26,"HUNTINGTON,TX",null,null,"KD5HLB",null,"LAMAR"]
[0.56999999999999995,"JACKSONVILLE,TX",null,null,"AG5LC",null,"GREG"]
[0.11,"JACKSONVILLE,TX",null,null,"K5RN",null,"RICHARD"]
[0.6,"JACKSONVILLE,TX",null,null,"KF5DC",null,"DON"]
[0.14000000000000001,"JACKSONVILLE,TX",null,null,"N5NVC",null,"MIKE"]
[0.09,"JACKSONVILLE,TX",null,null,"NJ5C",null,"JC"]
[0.12,"KILGORE,TX",null,null,"KI5YTJ",null,"JEFF"]
[0.13,"KILGORE,TX",null,null,"N5ECP",null,"JEFF",1,"FORMER NET MGR"]
[0.49,"KOUNTZE,TX",null,null,"N5LAV",null,"TERRY"]
[0.56000000000000005,"LA GRANGE,TX",null,null,"KD5PUR",null,"ANDY"]
[0.11,"LAKE HILLS,TX",null,null,"KI5IQE",null,"JOE"]
[1,"LUFKIN,TX",null,null,"KC5EGZ",null,"JIMMY",1,"NCO-Tuesday"]
[0.31,"McKINNEY,TX",null,null,"K5GRC",null,"RUSSELL"]
[0.1,"McKINNEY,TX",null,null,"KJ5FJQ",null,"PETER"]
[1,"MCLEOD,TX",null,null,"KI5JTA",null,"DARRELL",1,"RELAY"]
[0.1,"MEDINA,TX",null,null,"K5HRB",null,"HALDOR"]
[0.36,"MIDLAND,TX",null,null,"N5LMB",null,"LES"]
[0.11,"MONTAGUE,TX",null,null,"KI5CHB",null,"TOM"]
[0.12,"ORANGE,TX",null,null,"AF5DT",null,"PHILIP"]
[0.2,"PORT ARTHUR,TX",null,null,"KA5GTC",null,"GLEN"]
[0.2,"PORT ARTHUR,TX",null,null,"KD5LLC",null,"CANDACE"]
[0.1,"ROCKWALL,TX",null,null,"AG5PM",null,"RICHARD"]
[0.71,"SAN ANGELO,TX",null,null,"K5FDC",null,"MAXINE"]
[0.71,"SAN ANGELO,TX",null,null,"K5QZQ",null,"CHUCK"]
[0.84,"SAN ANGELO,TX",null,null,"KC5NPC",null,"HUBERT"]
[0.73,"SAN ANGELO,TX",null,null,"W5ETJ",null,"GARY",null,null,null,null,null,null,null,null,null,1]
[0.13,"SAN ANTONIO,TX",null,null,"KJ5IXX",null,"LEE"]
[0.32,"SCURRY,TX",null,null,"K5KDM",null,"DOUG"]
[0.19,"SEQUIN,TX",null,null,"AA5AF",null,"ROBBY"]
[0.15,"SILSBEE,TX",null,null,"KX5C",null,"RON"]
[0.15,"SILSBEE,TX",null,null,"N5EKG",null,"BRENDA"]
[0.42,"SUGARLAND,TX",null,null,"KK5QP",null,"MARK"]
[0.46,"TEXAS CITY,TX",null,null,"W5ABZ",null,"PAUL"]
[0.17,"TYLER,TX",null,null,"KT5C",null,"MIKE"]
[0.13,"WEATHERFORD,TX",null,null,"W5BNX",null,"JOHN"]
[0.12,"WILLIS,TX",null,null,"K2WJ",null,"JOHN"]
[0.09,"WYLIE,TX",null,null,"W5GGO",null,"SID"]
[0.35,"YORKTOWN,TX",null,null,"WB5MEX",null,"HURSHEL"]
[0.51,"ZAPATA,TX",null,null,"K5RST",null,"RUSTY"]
[null,"WEST VIRGINIA",null,null,null,null,{"$f":"COUNTIFS(CGCH!$B$5:$B$602,\"*,WV\",CGCH!$H$5:$H$602,\">0\")","v":0}]
[0.35,"NEW CUMBERLAND,WV",null,null,"KB3OXH",null,"WILLIAM"]
[null,"WISCONSIN",null,null,null,null,{"$f":"COUNTIFS(CGCH!$B$5:$B$602,\"*,WI\",CGCH!$H$5:$H$602,\">0\")","v":0}]
[0.47,"ALMOND,WI",null,null,"W9VOF",null,"DAVID"]
[0.45,"BLANCHARDVILLE,WI",null,null,"KD9RNA",null,"ERIC"]
[0.09,"TOMAHAWK,WI",null,null,"KD9MQE",null,"PAUL"]
[null,"WYOMING",null,null,null,null,{"$f":"COUNTIFS(CGCH!$B$5:$B$602,\"*,WY\",CGCH!$H$5:$H$602,\">0\")","v":0}]
[0.71,"HILLSDALE,WY",null,null,"KD7YBL",null,"CARA"]
[0.1,"LANDER,WY",null,null,"KC7TY",null,"RALPH"]
[null,"COUNTRY'S"]
[0.56000000000000005,"WINDSOR, ONTARIO",null,null,"VE3KUZ",null,"BOB"]
[]
[]
[null,"CITY,STATE:",null,null,"CALL SIGN:",null,"NAME:"]
[]
[]
[]
[]
[]
[]
[]
[]
[]
[]
[null,"MESSAGES:"]

{"sheet":"Report","index":1,"n_rows":56,"n_cols":37,"rows_kept":56,"cut":false,"hidden":false,"merged":[[1,26,1,31],[31,0,31,11],[54,28,54,30],[14,2,14,11],[15,2,15,11],[16,2,16,11],[28,1,28,11],[29,1,29,11]]}
[null,null,null,null,null,null,null,null,null,null,null,null,null,null,null,"DO NOT MOVE OR CHANGE ANYTHING INSIDE THIS RED BOX EXCEPT FOR YELLOW CELLS."]
[null,"CENTRAL GULF COAST HURRICANE NET REPORT",null,null,null,null,null,null,null,null,null,null,null,null,null,null,null,null,null,null,null,"Ham Call","Alibi",null,null,null,"LEAVE NO BLANK SPACES BETWEEN  ENTRIES.",null,null,null,null,null,null,"Ham Call","WxSta",null,"W = Weather Station "]
[null,null,null,null,null,null,null,null,null,null,null,null,null,null,null,null,null,null,null,null,null,"AA5LT","RELAY",null,null,null,null,"Count By State","State","Nunb In State","Abbrev.","V V",null,null,null,null,"x = Height obove ground."]
["DAILY NET REPORT",null,null,null,null,null,null,null,null,null,null,null,null,null,null,null,null,null,null,null,null,"AG5AT","Web_Master",null,null,null,1,{"$f":"COUNTIFS(CGCH!$B$5:$B$501,\"*,AL\",CGCH!$H$5:$H$501,\">0\")","v":5},"ALABAMA",{"$f":"COUNTIFS(CGCH!$B$5:$B$501,\"*,AL\")","v":48},"AL",{"$f":"COUNTIFS(CGCH!$B$5:$B$602,AC4)","v":1}]
[null,null,null,null,null,null,null,null,null,null,null,null,null,null,null,null,null,null,null,null,null,"K5KER","NCS",null,null,null,{"$f":"AA4+1","v":2},{"$f":"COUNTIFS(CGCH!$B$5:$B$501,\"*,AK\",CGCH!$H$5:$H$501,\">0\")","v":0},"ALASKA",{"$f":"COUNTIFS(CGCH!$B$5:$B$501,\"*,AK\")","v":0},"AK",{"$f":"COUNTIFS(CGCH!$B$5:$B$602,AC5)","v":0}]
["SEND TO: KJ4SBC at retarmy34cav@bellsouth.net   and   KE5VLX at ckatk120@gmail.com",null,null,null,null,null,null,null,null,null,null,null,null,null,null,null,null,null,null,null,null,"KC5EGZ","NCO-Tuesday",null,null,null,{"$f":"AA5+1","v":3},{"$f":"COUNTIFS(CGCH!$B$5:$B$501,\"*,AZ\",CGCH!$H$5:$H$501,\">0\")","v":0},"ARIZONA",{"$f":"COUNTIFS(CGCH!$B$5:$B$501,\"*,AZ\")","v":1},"AZ",{"$f":"COUNTIFS(CGCH!$B$5:$B$602,AC6)","v":1}]
[null,null,null,null,null,null,null,null,null,null,null,null,null,null,null,null,null,null,null,null,null,"KC8EHR","RELAY",null,null,null,4,{"$f":"COUNTIFS(CGCH!$B$5:$B$501,\"*,AR\",CGCH!$H$5:$H$501,\">0\")","v":5},"ARKANSAS",{"$f":"COUNTIFS(CGCH!$B$5:$B$501,\"*,AR\")","v":38},"AR",{"$f":"COUNTIFS(CGCH!$B$5:$B$602,AC7)","v":1}]
[null,null,null,null,null,null,null,null,null,null,null,null,null,null,null,null,null,null,null,null,null,"KD4CIF","RELAY",null,null,null,5,{"$f":"COUNTIFS(CGCH!$B$5:$B$501,\"*,CA\",CGCH!$H$5:$H$501,\">0\")","v":0},"CALIFORNIA",{"$f":"COUNTIFS(CGCH!$B$5:$B$501,\"*,CA\")","v":1},"CA",{"$f":"COUNTIFS(CGCH!$B$5:$B$602,AC8)","v":1}]
["DATE:",{"$f":"CGCH!O2","v":"2025-01-16"},null,null,null,null,null,null,null,null,null,null,null,null,null,null,null,null,null,null,null,"KE5UU","Liaison",null,null,null,6,{"$f":"COUNTIFS(CGCH!$B$5:$B$501,\"*,CO\",CGCH!$H$5:$H$501,\">0\")","v":0},"COLORADO",{"$f":"COUNTIFS(CGCH!$B$5:$B$501,\"*,CO\")","v":0},"CO",{"$f":"COUNTIFS(CGCH!$B$5:$B$602,AC9)","v":0}]
[null," ",null,null,null,null,null,null,null,null,null,null,null,null,null,null,null,null,null,null,null,"KE5VLX","NCO-Wednesday",null,null,null,7,{"$f":"COUNTIFS(CGCH!$B$5:$B$501,\"*,CN\",CGCH!$H$5:$H$501,\">0\")","v":0},"CONNECTICUT",{"$f":"COUNTIFS(CGCH!$B$5:$B$501,\"*,CN\")","v":0},"CN",{"$f":"COUNTIFS(CGCH!$B$5:$B$602,AC10)","v":0}]
["YOUR LOCAL RPT #: ",null,null,null,null,null,null,null,null,null,null,null,null,null,null,null,null,null,null,null,null,"KG5WQI","ILLNESS",null,null,null,8,{"$f":"COUNTIFS(CGCH!$B$5:$B$501,\"*,DE\",CGCH!$H$5:$H$501,\">0\")","v":0},"DELAWARE",{"$f":"COUNTIFS(CGCH!$B$5:$B$501,\"*,DE\")","v":0},"DE",{"$f":"COUNTIFS(CGCH!$B$5:$B$602,AC11)","v":0}]
[null,null,null,null,null,null,null,null,null,null,null,null,null,null,null,null,"DST",null,null,null,null,"KG5YK","RELAY",null,null,null,9,{"$f":"COUNTIFS(CGCH!$B$5:$B$501,\"*,FL\",CGCH!$H$5:$H$501,\">0\")","v":1},"FLORIDA",{"$f":"COUNTIFS(CGCH!$B$5:$B$501,\"*,FL\")","v":15},"FL",{"$f":"COUNTIFS(CGCH!$B$5:$B$602,AC12)","v":1}]
["# CHECK INS: ",{"$f":"CGCH!H1","v":23},"INCLUDES",{"$f":"CGCH!D2","v":0},"NEW CHECKINS:",null,null,null,null,null,null,null,null,null,null,null,"Duration  calc.",null,null,null,null,"KI5JTA","RELAY",null,null,null,10,{"$f":"COUNTIFS(CGCH!$B$5:$B$501,\"*,GA\",CGCH!$H$5:$H$501,\">0\")","v":0},"GEORGIA",{"$f":"COUNTIFS(CGCH!$B$5:$B$501,\"*,GA\")","v":11},"GA",{"$f":"COUNTIFS(CGCH!$B$5:$B$602,AC13)","v":1}]
[null,null,null,null,null,null,null,null,null,null,null,null,null,null,null,null,45128.072488425925,null,null,null,null,"KI5KVU","RELAY",null,null,null,11,{"$f":"COUNTIFS(CGCH!$B$5:$B$501,\"*,HI\",CGCH!$H$5:$H$501,\">0\")","v":0},"HAWAII",{"$f":"COUNTIFS(CGCH!$B$5:$B$501,\"*,HI\")","v":0},"HI",{"$f":"COUNTIFS(CGCH!$B$5:$B$602,AC14)","v":0}]
["# MESSAGES:",{"$f":"CGCH!H2","v":0},null,null,null,null,null,null,null,null,null,null,null,null,null,null,45128.014386574076,null,null,null,null,"KJ4SBC","NET MANAGER",null,null,null,12,{"$f":"COUNTIFS(CGCH!$B$5:$B$501,\"*,ID\",CGCH!$H$5:$H$501,\">0\")","v":0},"IDAHO",{"$f":"COUNTIFS(CGCH!$B$5:$B$501,\"*,HI\")","v":0},"ID",{"$f":"COUNTIFS(CGCH!$B$5:$B$602,AC15)","v":0}]
[null,null,null,null,null,null,null,null,null,null,null,null,null,null,null,null,{"$f":"(Q14-Q15)*1440","v":83.666666663484648},null,null,null,null,"KK4NCF","RELAY",null,null,null,13,{"$f":"COUNTIFS(CGCH!$B$5:$B$501,\"*,IL\",CGCH!$H$5:$H$501,\">0\")","v":0},"ILLINOIS",{"$f":"COUNTIFS(CGCH!$B$5:$B$501,\"*,IL\")","v":8},"IL",{"$f":"COUNTIFS(CGCH!$B$5:$B$602,AC16)","v":1}]
[null,null,null,null,null,null,null,null,null,null,null,null,null,null,null,null,null,null,null,null,null,"KN4ZFH","RELAY",null,null,null,14,{"$f":"COUNTIFS(CGCH!$B$5:$B$501,\"*,IN\",CGCH!$H$5:$H$501,\">0\")","v":0},"INDIANA",{"$f":"COUNTIFS(CGCH!$B$5:$B$501,\"*,IN\")","v":8},"IN",{"$f":"COUNTIFS(CGCH!$B$5:$B$602,AC17)","v":1}]
[null,null,null,null,null,null,null,null,null,null,null,null,null,null,null,null,null,null,null,null,null,"N5CRK","RELAY",null,null,null,15,{"$f":"COUNTIFS(CGCH!$B$5:$B$501,\"*,IA\",CGCH!$H$5:$H$501,\">0\")","v":0},"IOWA",{"$f":"COUNTIFS(CGCH!$B$5:$B$501,\"*,IA\")","v":0},"IA",{"$f":"COUNTIFS(CGCH!$B$5:$B$602,AC18)","v":1}]
["LIASON: ","KEN","Call:","KE5UU",null,null,null,null,null,null,null,null,null,null,null,null,null,null,null,null,null,"N5ECP","FORMER NET MGR",null,null,null,16,{"$f":"COUNTIFS(CGCH!$B$5:$B$501,\"*,KS\",CGCH!$H$5:$H$501,\">0\")","v":0},"KANSAS",{"$f":"COUNTIFS(CGCH!$B$5:$B$501,\"*,KS\")","v":1},"KS",{"$f":"COUNTIFS(CGCH!$B$5:$B$602,AC19)","v":1}]
[null,null,null,null,null," ",null,null,null,null,null,null,null,null,null,null,null,null,null,null,null,"N5JHF","Past Net Scribe",null,null,null,17,{"$f":"COUNTIFS(CGCH!$B$5:$B$501,\"*,KY\",CGCH!$H$5:$H$501,\">0\")","v":0},"KENTUCKY",{"$f":"COUNTIFS(CGCH!$B$5:$B$501,\"*,KN\")","v":0},"KY",{"$f":"COUNTIFS(CGCH!$B$5:$B$602,AC20)","v":1}]
["DURATION:",120,"Time in Minutes",null,null,null,null,null,null,null,null,null,null,null,null,null,null,null,null,null,null,"N8KRQ","Relay",null,null,null,18,{"$f":"COUNTIFS(CGCH!$B$5:$B$501,\"*,LA\",CGCH!$H$5:$H$501,\">0\")","v":3},"LOUISIANA",{"$f":"COUNTIFS(CGCH!$B$5:$B$501,\"*,LA\")","v":64},"LA",{"$f":"COUNTIFS(CGCH!$B$5:$B$602,AC21)","v":1}]
[null,"Audio:","Band:",null,"MINUTES . DURATION:"," ",null,null,null,null,null,null,null,null,null,null,null,null,null,null,null,"W0WWR","NCO-Monday",null,null,null,19,{"$f":"COUNTIFS(CGCH!$B$5:$B$501,\"*,ME\",CGCH!$H$5:$H$501,\">0\")","v":0},"MAINE",{"$f":"COUNTIFS(CGCH!$B$5:$B$501,\"*,ME\")","v":0},"ME",{"$f":"COUNTIFS(CGCH!$B$5:$B$602,AC22)","v":0}]
["Select CONDITIONS:","GOOD","STABLE"," ",null,null,null,null,null,null,null,null,null,null,null,null,null,null,null,null,null,"WA5ARJ","RELAY",null,null,null,20,{"$f":"COUNTIFS(CGCH!$B$5:$B$501,\"*,MD\",CGCH!$H$5:$H$501,\">0\")","v":0},"MARYLAND",{"$f":"COUNTIFS(CGCH!$B$5:$B$501,\"*,MD\")","v":0},"MD",{"$f":"COUNTIFS(CGCH!$B$5:$B$602,AC23)","v":0}]
[null,null,null,null,null,null,null,null,null,null,null,null,null,null,null,null,null,null,null,null,null,"WD4IGK","RELAY",null,null,null,21,{"$f":"COUNTIFS(CGCH!$B$5:$B$501,\"*,MA\",CGCH!$H$5:$H$501,\">0\")","v":0},"MASSACHUSETTS",{"$f":"COUNTIFS(CGCH!$B$5:$B$501,\"*,MA\")","v":1},"MA",{"$f":"COUNTIFS(CGCH!$B$5:$B$602,AC24)","v":1}]
["NCS NAME:","RAY",null,null,null,null,null,null,null,null,null,null,null,null,null,null,null,null,null,null,null,"WD4SS","NCO-Saturday",null,null,null,22,{"$f":"COUNTIFS(CGCH!$B$5:$B$501,\"*,MI\",CGCH!$H$5:$H$501,\">0\")","v":2},"MICHIGAN",{"$f":"COUNTIFS(CGCH!$B$5:$B$501,\"*,MI\")","v":27},"MI",{"$f":"COUNTIFS(CGCH!$B$5:$B$602,AC25)","v":1}]
[null,null,null,null,null,null,null,null,null,null,null,null,null,null,null,null,null,null,null,null,null,null,null,null,null,null,23,{"$f":"COUNTIFS(CGCH!$B$5:$B$501,\"*,MN\",CGCH!$H$5:$H$501,\">0\")","v":0},"MINNESOTA",{"$f":"COUNTIFS(CGCH!$B$5:$B$501,\"*,MN\")","v":0},"MN",{"$f":"COUNTIFS(CGCH!$B$5:$B$602,AC26)","v":1}]
["NCS CALL:","KJ4SBC"," ",null,null,null,null,null,null,null,null,null,null,null,null,null,null,null,null,null,null,null,null,null,null,null,24,{"$f":"COUNTIFS(CGCH!$B$5:$B$501,\"*,MS\",CGCH!$H$5:$H$501,\">0\")","v":0},"MISSISSIPPI",{"$f":"COUNTIFS(CGCH!$B$5:$B$501,\"*,MS\")","v":22},"MS",{"$f":"COUNTIFS(CGCH!$B$5:$B$602,AC27)","v":1}]
[null,null,null,null,null,null,null,null,null,null,null,null,null,null,null,null,null,null,null,null,null,null,null,null,null,null,25,{"$f":"COUNTIFS(CGCH!$B$5:$B$501,\"*,MO\",CGCH!$H$5:$H$501,\">0\")","v":1},"MISSOURI",{"$f":"COUNTIFS(CGCH!$B$5:$B$501,\"*,MO\")","v":12},"MO",{"$f":"COUNTIFS(CGCH!$B$5:$B$602,AC28)","v":1}]
["Comments:",null,null,null,null,null,null,null,null,null,null,null,null,null,null,null,null,null,null,null,null,null,null,null,null,null,26,{"$f":"COUNTIFS(CGCH!$B$5:$B$501,\"*,MT\",CGCH!$H$5:$H$501,\">0\")","v":0},"MONTANA",{"$f":"COUNTIFS(CGCH!$B$5:$B$501,\"*,MT\")","v":0},"MT",{"$f":"COUNTIFS(CGCH!$B$5:$B$602,AC29)","v":0}]
["RELAYS.",null,null,null,null,null,null,null,null,null,null,null,null,null,null,null,null,null,null,null,null,null,null,null,null,null,27,{"$f":"COUNTIFS(CGCH!$B$5:$B$501,\"*,NE\",CGCH!$H$5:$H$501,\">0\")","v":0},"NEBRASKA",{"$f":"COUNTIFS(CGCH!$B$5:$B$501,\"*,NE\")","v":0},"NE",{"$f":"COUNTIFS(CGCH!$B$5:$B$602,AC30)","v":0}]
["END OF MESSAGE",null,null,null,null,null,null,null,null,null,null,null,null,null,null,null,null,null,null,null,null,null,null,null,null,null,28,{"$f":"COUNTIFS(CGCH!$B$5:$B$501,\"*,NV\",CGCH!$H$5:$H$501,\">0\")","v":0},"NEVADA",{"$f":"COUNTIFS(CGCH!$B$5:$B$501,\"*,NV\")","v":0},"NV",{"$f":"COUNTIFS(CGCH!$B$5:$B$602,AC31)","v":0}]
[null,null,null,null,null,null,null,null,null,null,null,null,null,null,null,null,null,null,"R",null,null,null,null,null,null,null,29,{"$f":"COUNTIFS(CGCH!$B$5:$B$501,\"*,NH\",CGCH!$H$5:$H$501,\">0\")","v":0},"NEW HAMPSHIRE",{"$f":"COUNTIFS(CGCH!$B$5:$B$501,\"*,NH\")","v":0},"NH",{"$f":"COUNTIFS(CGCH!$B$5:$B$602,AC32)","v":0}]
[null,null,null,null,null,null,null,null,null,null,null,null,null,null,"CALL","NAME",null,"Active","Cur't","Ark:",null,null,null,null,null,null,30,{"$f":"COUNTIFS(CGCH!$B$5:$B$501,\"*,NJ\",CGCH!$H$5:$H$501,\">0\")","v":0},"NEW JERSEY",{"$f":"COUNTIFS(CGCH!$B$5:$B$501,\"*,NJ\")","v":0},"NJ",{"$f":"COUNTIFS(CGCH!$B$5:$B$602,AC33)","v":0}]
[null,null,null,null,null,null,null,null,null,null,null,null,null,null,"OPEN","OPEN","Sunday","OPEN",null,null,null,null,null,null,null,null,31,{"$f":"COUNTIFS(CGCH!$B$5:$B$501,\"*,NM\",CGCH!$H$5:$H$501,\">0\")","v":1},"NEW MEXICO",{"$f":"COUNTIFS(CGCH!$B$5:$B$501,\"*,NM\")","v":2},"NM",{"$f":"COUNTIFS(CGCH!$B$5:$B$602,AC34)","v":1}]
[null,null,null,null,null,null,null,null,null,null,null,null,null,null,"W0WWR","JEREMIAH","Monday",null,null,null,null,null,null,null,null,null,32,{"$f":"COUNTIFS(CGCH!$B$5:$B$501,\"*,NY\",CGCH!$H$5:$H$501,\">0\")","v":0},"NEW YORK",{"$f":"COUNTIFS(CGCH!$B$5:$B$501,\"*,NY\")","v":0},"NY",{"$f":"COUNTIFS(CGCH!$B$5:$B$602,AC35)","v":0}]
[null,null,null,null,null,null,null,null,null,null,null,null,null,null,"KC5EGZ","JIMMY","Tuesday",null,null,null,null,null,null,null,null,null,33,{"$f":"COUNTIFS(CGCH!$B$5:$B$501,\"*,NC\",CGCH!$H$5:$H$501,\">0\")","v":0},"N. CAROLINA",{"$f":"COUNTIFS(CGCH!$B$5:$B$501,\"*,NC\")","v":5},"NC",{"$f":"COUNTIFS(CGCH!$B$5:$B$602,AC36)","v":1}]
[null,null,null,null,null,null,null,null,null,null,null,null,null,null,"KE5VLX","CHUCK","Wednesday","NetScribe",null,null,null,null,null,null,null,null,34,{"$f":"COUNTIFS(CGCH!$B$5:$B$501,\"*,ND\",CGCH!$H$5:$H$501,\">0\")","v":0},"N. DAKOTA",{"$f":"COUNTIFS(CGCH!$B$5:$B$501,\"*,ND\")","v":0},"ND",{"$f":"COUNTIFS(CGCH!$B$5:$B$602,AC37)","v":0}]
[null,null,null,null,null,null,null,null,null,null,null,null,null,null,"KJ4SBC","RAY","Thursday","NetMgr",null,null,null,null,null,null,null,null,35,{"$f":"COUNTIFS(CGCH!$B$5:$B$501,\"*,OH\",CGCH!$H$5:$H$501,\">0\")","v":0},"OHIO",{"$f":"COUNTIFS(CGCH!$B$5:$B$501,\"*,OH\")","v":8},"OH",{"$f":"COUNTIFS(CGCH!$B$5:$B$602,AC38)","v":1}]
[null,null,null,null,null,null,null,null,null,null,null,null,null,null,"KJ4SBC","RAY","Friday","NetMgr",null,null,null,null,null,null,null,null,36,{"$f":"COUNTIFS(CGCH!$B$5:$B$501,\"*,OK\",CGCH!$H$5:$H$501,\">0\")","v":0},"OKLAHOMA",{"$f":"COUNTIFS(CGCH!$B$5:$B$501,\"*,OK\")","v":9},"OK",{"$f":"COUNTIFS(CGCH!$B$5:$B$602,AC39)","v":1}]
[null,null,null,null,null,null,null,null,null,null,null,null,null,null,"WD4SS","JOHN","Saturday",null,null,null,null,null,null,null,"`",null,37,{"$f":"COUNTIFS(CGCH!$B$5:$B$501,\"*,OR\",CGCH!$H$5:$H$501,\">0\")","v":0},"OREGON",{"$f":"COUNTIFS(CGCH!$B$5:$B$501,\"*,OR\")","v":0},"OR",{"$f":"COUNTIFS(CGCH!$B$5:$B$602,AC40)","v":0}]
[null,null,null,null,null,null,null,null,null,null,null,null,null,null,"K5KER","RANDY","NCS",null,null,null,null,null,null,null,null,null,38,{"$f":"COUNTIFS(CGCH!$B$5:$B$501,\"*,PA\",CGCH!$H$5:$H$501,\">0\")","v":0},"PENNSYLVANIA",{"$f":"COUNTIFS(CGCH!$B$5:$B$501,\"*,PA\")","v":2},"PA",{"$f":"COUNTIFS(CGCH!$B$5:$B$602,AC41)","v":1}]
[null,null,null,null,null,null,null,null,null,null,null,null,null,null,null,null,null,null,null,null,null,null,null,null,null,null,39,{"$f":"COUNTIFS(CGCH!$B$5:$B$501,\"*,RI\",CGCH!$H$5:$H$501,\">0\")","v":0},"RHODE ISLAND",{"$f":"COUNTIFS(CGCH!$B$5:$B$501,\"*,RI\")","v":0},"RI",{"$f":"COUNTIFS(CGCH!$B$5:$B$602,AC42)","v":0}]
[null,null,null,null,null,null,null,null,null,null,null,null,null,null,null,null,null,null,null,null,null,null,null,null,null,null,40,{"$f":"COUNTIFS(CGCH!$B$5:$B$501,\"*,SC\",CGCH!$H$5:$H$501,\">0\")","v":0},"S. CAROLINA",{"$f":"COUNTIFS(CGCH!$B$5:$B$501,\"*,SC\")","v":1},"SC",{"$f":"COUNTIFS(CGCH!$B$5:$B$602,AC43)","v":1}]
[null,null,null,null,null,null,null,null,null,null,null,null,null,null,"N5ETL","JACK","ANCS",null,null,null,null,null,null,null,null,null,41,{"$f":"COUNTIFS(CGCH!$B$5:$B$501,\"*,SD\",CGCH!$H$5:$H$501,\">0\")","v":0},"S. DAKOTA",{"$f":"COUNTIFS(CGCH!$B$5:$B$501,\"*,SD\")","v":0},"SD",{"$f":"COUNTIFS(CGCH!$B$5:$B$602,AC44)","v":0}]
[null,null,null,null,null,null,null,null,null,null,null,null,null,null,"N5DAL","MIKE","ANCS",null,null,null,null,null,null,null,null,null,42,{"$f":"COUNTIFS(CGCH!$B$5:$B$501,\"*,TN\",CGCH!$H$5:$H$501,\">0\")","v":1},"TENNESSEE",{"$f":"COUNTIFS(CGCH!$B$5:$B$501,\"*,TN\")","v":14},"TN",{"$f":"COUNTIFS(CGCH!$B$5:$B$602,AC45)","v":1}]
[null,null,null,null,null,null,null,null,null,null,null,null,null,null,"Rev.9/3/19",null,null,null,null,null,null,null,null,null,null,null,43,{"$f":"COUNTIFS(CGCH!$B$5:$B$602,\"*,TX\",CGCH!$H$5:$H$602,\">0\")","v":4},"TEXAS",{"$f":"COUNTIFS(CGCH!$B$5:$B$602,\"*,TX\")","v":60},"TX",{"$f":"COUNTIFS(CGCH!$B$5:$B$602,AC46)","v":1}]
[null,null,null,null,null,null,null,null,null,null,null,null,null,null,"AG5AT","AUGUST",null,"WebMaster",null,null,null,null,null,null,null,null,44,{"$f":"COUNTIFS(CGCH!$B$5:$B$602,\"*,UT\",CGCH!$H$5:$H$602,\">0\")","v":0},"UTAH",{"$f":"COUNTIFS(CGCH!$B$5:$B$602,\"*,UT\")","v":0},"UT",{"$f":"COUNTIFS(CGCH!$B$5:$B$602,AC47)","v":0}]
[null,null,null,null,null,null,null,null,null,null,null,null,null,null,null,null,null,null,null,null,null,null,null,null,null,null,45,{"$f":"COUNTIFS(CGCH!$B$5:$B$602,\"*,VT\",CGCH!$H$5:$H$602,\">0\")","v":0},"VERMONT",{"$f":"COUNTIFS(CGCH!$B$5:$B$602,\"*,VT\")","v":0},"VT",{"$f":"COUNTIFS(CGCH!$B$5:$B$602,AC48)","v":0}]
[null,null,null,null,null,null,null,null,null,null,null,null,null,null,null,null,null,null,null,null,null,null,null,null,null,null,46,{"$f":"COUNTIFS(CGCH!$B$5:$B$602,\"*,VA\",CGCH!$H$5:$H$602,\">0\")","v":0},"VIRGINIA",{"$f":"COUNTIFS(CGCH!$B$5:$B$602,\"*,VA\")","v":0},"VA",{"$f":"COUNTIFS(CGCH!$B$5:$B$602,AC49)","v":0}]
[null,null,null,null,null,null,null,null,null,null,null,null,null,null,null,null,null,null,null,null,null,null,null,null,null,null,{"$f":"AA49+1","v":47},{"$f":"COUNTIFS(CGCH!$B$5:$B$602,\"*,WA\",CGCH!$H$5:$H$602,\">0\")","v":0},"WASHINGTON",{"$f":"COUNTIFS(CGCH!$B$5:$B$602,\"*,WA\")","v":0},"WA",{"$f":"COUNTIFS(CGCH!$B$5:$B$602,AC50)","v":0}]
[null,null,null,null,null,null,null,null,null,null,null,null,null,null,null,null,null,null,null,null,null,null,null,null,null,null,{"$f":"AA50+1","v":48},{"$f":"COUNTIFS(CGCH!$B$5:$B$602,\"*,WI\",CGCH!$H$5:$H$602,\">0\")","v":0},"WISCONSIN",{"$f":"COUNTIFS(CGCH!$B$5:$B$602,\"*,WI\")","v":3},"WI",{"$f":"COUNTIFS(CGCH!$B$5:$B$602,AC51)","v":1}]
[null,null,null,null,null,null,null,null,null,null,null,null,null,null,null,null,null,null,null,null,null,null,null,null,null,null,{"$f":"AA51+1","v":49},{"$f":"COUNTIFS(CGCH!$B$5:$B$602,\"*,WY\",CGCH!$H$5:$H$602,\">0\")","v":0},"WYOMING",{"$f":"COUNTIFS(CGCH!$B$5:$B$602,\"*,WY\")","v":2},"WY",{"$f":"COUNTIFS(CGCH!$B$5:$B$602,AC52)","v":1}]
[null,null,null,null,null,null,null,null,null,null,null,null,null,null,null,null,null,null,null,null,null,null,null,null,null,null,{"$f":"AA52+1","v":50},{"$f":"COUNTIFS(CGCH!$B$5:$B$602,\"*,WV\",CGCH!$H$5:$H$602,\">0\")","v":0},"WEST VIRGINIA",{"$f":"COUNTIFS(CGCH!$B$5:$B$602,\"*,WV\")","v":1},"WV",{"$f":"COUNTIFS(CGCH!$B$5:$B$602,AC53)","v":1}]
[null,null,null,null,null,null,null,null,null,null,null,null,null,null,null,null,null,null,null,null,null,null,null,null,null,null,{"$f":"AA53+1","v":51},{"$f":"COUNTIFS(CGCH!$B$5:$B$602,\"*,CTY\",CGCH!$H$5:$H$602,\">0\")","v":0},"COUNTRY'S",{"$f":"COUNTIFS(CGCH!$B$5:$B$602,\"*,CTY\")","v":0},"CTY",{"$f":"COUNTIFS(CGCH!$B$5:$B$602,AC54)","v":1}]
[null,null,null,null,null,null,null,null,null,null,null,null,null,null,null,null,null,null,null,null,null,null,null,null,null,null,null,null,"END OF DATA  - ESD",null,null,86]
[null,null,null,null,null,null,null,null,null,null,null,null,null,null,null,null,null,null,null,null,null,null,null,null,null,null,"Total ChkIns",{"$f":"SUM(AB4:AB54)","v":23},"Number of Hams        on List",{"$f":"SUM(AD4:AD54)","v":364},"Number of States",{"$f":"COUNTIFS(AF4:AF54,1)","v":29}]